BEGIN:VCALENDAR
VERSION:2.0
PRODID:-//Casino Theater Burgdorf - ECPv6.15.20//NONSGML v1.0//EN
CALSCALE:GREGORIAN
METHOD:PUBLISH
X-WR-CALNAME:Casino Theater Burgdorf
X-ORIGINAL-URL:https://www.theaterburgdorf.ch
X-WR-CALDESC:Veranstaltungen für Casino Theater Burgdorf
REFRESH-INTERVAL;VALUE=DURATION:PT1H
X-Robots-Tag:noindex
X-PUBLISHED-TTL:PT1H
BEGIN:VTIMEZONE
TZID:Europe/Zurich
BEGIN:DAYLIGHT
TZOFFSETFROM:+0100
TZOFFSETTO:+0200
TZNAME:CEST
DTSTART:20210328T010000
END:DAYLIGHT
BEGIN:STANDARD
TZOFFSETFROM:+0200
TZOFFSETTO:+0100
TZNAME:CET
DTSTART:20211031T010000
END:STANDARD
BEGIN:DAYLIGHT
TZOFFSETFROM:+0100
TZOFFSETTO:+0200
TZNAME:CEST
DTSTART:20220327T010000
END:DAYLIGHT
BEGIN:STANDARD
TZOFFSETFROM:+0200
TZOFFSETTO:+0100
TZNAME:CET
DTSTART:20221030T010000
END:STANDARD
BEGIN:DAYLIGHT
TZOFFSETFROM:+0100
TZOFFSETTO:+0200
TZNAME:CEST
DTSTART:20230326T010000
END:DAYLIGHT
BEGIN:STANDARD
TZOFFSETFROM:+0200
TZOFFSETTO:+0100
TZNAME:CET
DTSTART:20231029T010000
END:STANDARD
END:VTIMEZONE
BEGIN:VEVENT
DTSTART;TZID=Europe/Zurich:20220127T193000
DTEND;TZID=Europe/Zurich:20220127T213000
DTSTAMP:20260421T202636
CREATED:20210818T123712Z
LAST-MODIFIED:20220118T140906Z
UID:3273-1643311800-1643319000@www.theaterburgdorf.ch
SUMMARY:Anstelle von Faust I ist FERFERI zu sehen
DESCRIPTION:
URL:https://www.theaterburgdorf.ch/vorstellung/faust-i-2/
CATEGORIES:Schauspiel
ATTACH;FMTTYPE=image/jpeg:https://www.theaterburgdorf.ch/wp-content/uploads/2021/08/FERFERI_3_big.jpg
END:VEVENT
END:VCALENDAR