BEGIN:VCALENDAR
VERSION:2.0
PRODID:-//Casino Theater Burgdorf - ECPv6.15.20//NONSGML v1.0//EN
CALSCALE:GREGORIAN
METHOD:PUBLISH
X-WR-CALNAME:Casino Theater Burgdorf
X-ORIGINAL-URL:https://www.theaterburgdorf.ch
X-WR-CALDESC:Veranstaltungen für Casino Theater Burgdorf
REFRESH-INTERVAL;VALUE=DURATION:PT1H
X-Robots-Tag:noindex
X-PUBLISHED-TTL:PT1H
BEGIN:VTIMEZONE
TZID:Europe/Zurich
BEGIN:DAYLIGHT
TZOFFSETFROM:+0100
TZOFFSETTO:+0200
TZNAME:CEST
DTSTART:20240331T010000
END:DAYLIGHT
BEGIN:STANDARD
TZOFFSETFROM:+0200
TZOFFSETTO:+0100
TZNAME:CET
DTSTART:20241027T010000
END:STANDARD
BEGIN:DAYLIGHT
TZOFFSETFROM:+0100
TZOFFSETTO:+0200
TZNAME:CEST
DTSTART:20250330T010000
END:DAYLIGHT
BEGIN:STANDARD
TZOFFSETFROM:+0200
TZOFFSETTO:+0100
TZNAME:CET
DTSTART:20251026T010000
END:STANDARD
BEGIN:DAYLIGHT
TZOFFSETFROM:+0100
TZOFFSETTO:+0200
TZNAME:CEST
DTSTART:20260329T010000
END:DAYLIGHT
BEGIN:STANDARD
TZOFFSETFROM:+0200
TZOFFSETTO:+0100
TZNAME:CET
DTSTART:20261025T010000
END:STANDARD
END:VTIMEZONE
BEGIN:VEVENT
DTSTART;TZID=Europe/Zurich:20250502T200000
DTEND;TZID=Europe/Zurich:20250502T230000
DTSTAMP:20260420T111948
CREATED:20240716T091148Z
LAST-MODIFIED:20250128T102258Z
UID:10000514-1746216000-1746226800@www.theaterburgdorf.ch
SUMMARY:Philipp Fankhauser
DESCRIPTION:
URL:https://www.theaterburgdorf.ch/vorstellung/philipp-fankhauser/2025-05-02/
CATEGORIES:Konzert
ATTACH;FMTTYPE=image/jpeg:https://www.theaterburgdorf.ch/wp-content/uploads/2024/07/banner_something-tour_1200x630px.jpg
END:VEVENT
END:VCALENDAR