BEGIN:VCALENDAR
VERSION:2.0
PRODID:-//Casino Theater Burgdorf - ECPv6.15.20//NONSGML v1.0//EN
CALSCALE:GREGORIAN
METHOD:PUBLISH
X-WR-CALNAME:Casino Theater Burgdorf
X-ORIGINAL-URL:https://www.theaterburgdorf.ch
X-WR-CALDESC:Veranstaltungen für Casino Theater Burgdorf
REFRESH-INTERVAL;VALUE=DURATION:PT1H
X-Robots-Tag:noindex
X-PUBLISHED-TTL:PT1H
BEGIN:VTIMEZONE
TZID:Europe/Zurich
BEGIN:DAYLIGHT
TZOFFSETFROM:+0100
TZOFFSETTO:+0200
TZNAME:CEST
DTSTART:20200329T010000
END:DAYLIGHT
BEGIN:STANDARD
TZOFFSETFROM:+0200
TZOFFSETTO:+0100
TZNAME:CET
DTSTART:20201025T010000
END:STANDARD
BEGIN:DAYLIGHT
TZOFFSETFROM:+0100
TZOFFSETTO:+0200
TZNAME:CEST
DTSTART:20210328T010000
END:DAYLIGHT
BEGIN:STANDARD
TZOFFSETFROM:+0200
TZOFFSETTO:+0100
TZNAME:CET
DTSTART:20211031T010000
END:STANDARD
BEGIN:DAYLIGHT
TZOFFSETFROM:+0100
TZOFFSETTO:+0200
TZNAME:CEST
DTSTART:20220327T010000
END:DAYLIGHT
BEGIN:STANDARD
TZOFFSETFROM:+0200
TZOFFSETTO:+0100
TZNAME:CET
DTSTART:20221030T010000
END:STANDARD
END:VTIMEZONE
BEGIN:VEVENT
DTSTART;TZID=Europe/Zurich:20211211T200000
DTEND;TZID=Europe/Zurich:20211211T200000
DTSTAMP:20260421T202720
CREATED:20210818T122618Z
LAST-MODIFIED:20211004T095050Z
UID:3258-1639252800-1639252800@www.theaterburgdorf.ch
SUMMARY:Simon Enzler
DESCRIPTION:
URL:https://www.theaterburgdorf.ch/vorstellung/simon-enzler-2/
CATEGORIES:Kleinkunst
ATTACH;FMTTYPE=image/jpeg:https://www.theaterburgdorf.ch/wp-content/uploads/2021/08/SimonEnzler_quer.jpg
END:VEVENT
END:VCALENDAR